View In:
ArcGIS JavaScript
ArcGIS Online map viewer
Google Earth
ArcMap
View Footprint In:
ArcGIS Online map viewer
Service Description: This is a mosaic of black and white orthorectified aerial photos of Montana and Yellowstone National Park that were taken predominantly in the 1990s. Some areas in Missoula, Lake, and Sanders counties were photographed in 2000 through 2003. The mosaic footprint layer has an attribute field called Image_Year that gives the year the image was taken and a field called Image_Main_Date that gives the first date from the USGS metadata for the image. Some images contain data from multiple dates, but there is no indication of which parts of an image may be from a different date than the Image_Main_Date.The images that form this mosaic were obtained by the Montana State Library between 1998 and 2004 from the U.S. Geological Survey and converted from UTM coordinates to State Plane coordinates. In order to allow zero to represent no-data values for the resulting images, all pixels with a value of 0 were assigned a value of 1. The images of the mosaic are all in Montana State Plane coordinates, units meters, datum NAD83. The coordinate system of the image mosaic is Web Mercator Auxilliary Sphere.The images overlap each other by about 400 meters around their edges. The mosaic is configured by default so that the images with higher record numbers always cover images with lower record numbers, so that the appearance of the mosaic is static. Users of the mosaic may choose other mosaic methods that allow control over which image is displayed in areas where they cover each other.
Name: MSL/DOQQ_1990s
Description: This is a mosaic of black and white orthorectified aerial photos of Montana and Yellowstone National Park that were taken predominantly in the 1990s. Some areas in Missoula, Lake, and Sanders counties were photographed in 2000 through 2003. The mosaic footprint layer has an attribute field called Image_Year that gives the year the image was taken and a field called Image_Main_Date that gives the first date from the USGS metadata for the image. Some images contain data from multiple dates, but there is no indication of which parts of an image may be from a different date than the Image_Main_Date.The images that form this mosaic were obtained by the Montana State Library between 1998 and 2004 from the U.S. Geological Survey and converted from UTM coordinates to State Plane coordinates. In order to allow zero to represent no-data values for the resulting images, all pixels with a value of 0 were assigned a value of 1. The images of the mosaic are all in Montana State Plane coordinates, units meters, datum NAD83. The coordinate system of the image mosaic is Web Mercator Auxilliary Sphere.The images overlap each other by about 400 meters around their edges. The mosaic is configured by default so that the images with higher record numbers always cover images with lower record numbers, so that the appearance of the mosaic is static. Users of the mosaic may choose other mosaic methods that allow control over which image is displayed in areas where they cover each other.
Single Fused Map Cache: false
Extent:
XMin: -1.2935590644299999E7
YMin: 5484212.290599998
XMax: -1.1575958644299999E7
YMax: 6276113.290599998
Spatial Reference: 102100
(3857)
Initial Extent:
XMin: -1.2935590644299999E7
YMin: 5484212.290599998
XMax: -1.1575958644299999E7
YMax: 6276113.290599998
Spatial Reference: 102100
(3857)
Full Extent:
XMin: -1.2935590644299999E7
YMin: 5484212.290599998
XMax: -1.1575958644299999E7
YMax: 6276113.290599998
Spatial Reference: 102100
(3857)
Pixel Size X: 1.0
Pixel Size Y: 1.0
Band Count: 1
Pixel Type: U8
RasterFunction Infos: N/A
Mensuration Capabilities: None
Has Histograms: true
Has Colormap: false
Has Multi Dimensions : false
Rendering Rule:
Min Scale: 0
Max Scale: 0
Copyright Text: U.S. Geological Survey, Montana State Library
Service Data Type: esriImageServiceDataTypeGeneric
Min Values: 0
Max Values: 238
Mean Values: 121.76208968600983
Standard Deviation Values: 22.099132214641276
Object ID Field: OBJECTID
Fields:
-
OBJECTID
(
type: esriFieldTypeOID
, alias: OBJECTID
)
-
Shape
(
type: esriFieldTypeGeometry
, alias: Shape
)
-
Name
(
type: esriFieldTypeString
, alias: Name
, length: 200
)
-
MinPS
(
type: esriFieldTypeDouble
, alias: MinPS
)
-
MaxPS
(
type: esriFieldTypeDouble
, alias: MaxPS
)
-
LowPS
(
type: esriFieldTypeDouble
, alias: LowPS
)
-
HighPS
(
type: esriFieldTypeDouble
, alias: HighPS
)
-
Category
(
type: esriFieldTypeInteger
, alias: Category
, Coded Values:
[0: Unknown]
, [1: Primary]
, [2: Overview]
, ...5 more...
)
-
Tag
(
type: esriFieldTypeString
, alias: Tag
, length: 100
)
-
GroupName
(
type: esriFieldTypeString
, alias: GroupName
, length: 100
)
-
ProductName
(
type: esriFieldTypeString
, alias: ProductName
, length: 100
)
-
CenterX
(
type: esriFieldTypeDouble
, alias: CenterX
)
-
CenterY
(
type: esriFieldTypeDouble
, alias: CenterY
)
-
ZOrder
(
type: esriFieldTypeInteger
, alias: ZOrder
)
-
Shape_Length
(
type: esriFieldTypeDouble
, alias: Shape_Length
)
-
Shape_Area
(
type: esriFieldTypeDouble
, alias: Shape_Area
)
-
Image_Year
(
type: esriFieldTypeSmallInteger
, alias: Image_Year
)
-
Image_Main_Date
(
type: esriFieldTypeDate
, alias: Image_Main_Date
, length: 8
)
Default Mosaic Method: None
Allowed Mosaic Methods: None,NorthWest,Center,LockRaster,ByAttribute,Nadir,Viewpoint,Seamline
SortField: N/A
SortValue: N/A
Mosaic Operator: First
Default Compression Quality: 75
Default Resampling Method: Bilinear
Max Record Count: 1000
Max Image Height: 4100
Max Image Width: 15000
Max Download Image Count: 20
Max Mosaic Image Count: 20
Allow Raster Function: true
Allow Compute TiePoints: false
Supports Statistics: true
Supports Advanced Queries: true
Use StandardizedQueries: false
Raster Type Infos:
Name: Raster Dataset
Description: Supports all ArcGIS Raster Datasets
Help:
Has Raster Attribute Table: false
Edit Fields Info: null
Ownership Based AccessControl For Rasters: null
Child Resources:
Info
Histograms
Key Properties
Legend
MultiDimensionalInfo
rasterFunctionInfos
Supported Operations:
Export Image
Query
Identify
Compute Histograms
Compute Statistics Histograms
Get Samples
Compute Class Statistics