View In:
ArcGIS JavaScript
ArcGIS Online Map Viewer
ArcGIS Earth
ArcMap
View Footprint In:
ArcGIS Online Map Viewer
Service Description: 2009 NAIP imagery for the state of Montana
Name: MSDI_Framework/NAIP_2009
Description: 2009 NAIP imagery for the state of Montana
Single Fused Map Cache: false
Extent:
XMin: -1.29206009023E7
YMin: 5513351.361599997
XMax: -1.15766209023E7
YMax: 6286208.361599997
Spatial Reference: 102100
(3857)
Initial Extent:
XMin: -1.29206009023E7
YMin: 5513351.361599997
XMax: -1.15766209023E7
YMax: 6286208.361599997
Spatial Reference: 102100
(3857)
Full Extent:
XMin: -1.29206009023E7
YMin: 5513351.361599997
XMax: -1.15766209023E7
YMax: 6286208.361599997
Spatial Reference: 102100
(3857)
Pixel Size X: 1.0
Pixel Size Y: 1.0
Band Count: 4
Pixel Type: U8
RasterFunction Infos: {"rasterFunctionInfos": [{
"name": "None",
"description": "A No-Op Function.",
"help": ""
}]}
Mensuration Capabilities:
Has Histograms: true
Has Colormap: false
Has Multi Dimensions : false
Rendering Rule:
Min Scale: 0
Max Scale: 0
Copyright Text:
Service Data Type: esriImageServiceDataTypeGeneric
Min Values: 14, 26, 31, 0
Max Values: 242, 243, 241, 222
Mean Values: 118.98893543815589, 123.83509223562226, 107.2606904831153, 117.79344294757435
Standard Deviation Values: 35.58381220578246, 27.66700785723291, 25.437189741478328, 24.971819243850426
Object ID Field: OBJECTID
Fields:
-
OBJECTID
(
type: esriFieldTypeOID
, alias: OBJECTID
)
-
Shape
(
type: esriFieldTypeGeometry
, alias: Shape
)
-
Name
(
type: esriFieldTypeString
, alias: Name
, length: 200
)
-
MinPS
(
type: esriFieldTypeDouble
, alias: MinPS
)
-
MaxPS
(
type: esriFieldTypeDouble
, alias: MaxPS
)
-
LowPS
(
type: esriFieldTypeDouble
, alias: LowPS
)
-
HighPS
(
type: esriFieldTypeDouble
, alias: HighPS
)
-
Category
(
type: esriFieldTypeInteger
, alias: Category
, Coded Values:
[0: Unknown]
, [1: Primary]
, [2: Overview]
, ...6 more...
)
-
Tag
(
type: esriFieldTypeString
, alias: Tag
, length: 100
)
-
GroupName
(
type: esriFieldTypeString
, alias: GroupName
, length: 100
)
-
ProductName
(
type: esriFieldTypeString
, alias: ProductName
, length: 100
)
-
CenterX
(
type: esriFieldTypeDouble
, alias: CenterX
)
-
CenterY
(
type: esriFieldTypeDouble
, alias: CenterY
)
-
ZOrder
(
type: esriFieldTypeInteger
, alias: ZOrder
)
-
Shape_Length
(
type: esriFieldTypeDouble
, alias: Shape_Length
)
-
Shape_Area
(
type: esriFieldTypeDouble
, alias: Shape_Area
)
Default Mosaic Method: Northwest
Allowed Mosaic Methods: NorthWest,Center,LockRaster,ByAttribute,Nadir,Viewpoint,Seamline,None
SortField:
SortValue: null
Mosaic Operator: Max
Default Compression Quality: 75
Default Resampling Method: Bilinear
Max Record Count: 1000
Max Image Height: 4100
Max Image Width: 15000
Max Download Image Count: 20
Max Mosaic Image Count: 20
Allow Raster Function: true
Allow Compute TiePoints: false
Supports Statistics: true
Supports Advanced Queries: true
Use StandardizedQueries: false
Raster Type Infos:
Name: Raster Dataset
Description: Supports all ArcGIS Raster Datasets
Help:
Has Raster Attribute Table: false
Edit Fields Info: null
Ownership Based AccessControl For Rasters: null
Child Resources:
Info
Histograms
Key Properties
Legend
MultiDimensionalInfo
rasterFunctionInfos
Supported Operations:
Export Image
Query
Identify
Measure
Compute Histograms
Compute Statistics Histograms
Get Samples
Compute Class Statistics
Query Boundary