View In:
ArcGIS JavaScript
ArcGIS Online Map Viewer
ArcGIS Earth
ArcMap
View Footprint In:
ArcGIS Online Map Viewer
Service Description: Montana NAIP imagery for 2017
Name: MSDI_Framework/NAIP_2017
Description: Montana NAIP imagery for 2017
Single Fused Map Cache: false
Extent:
XMin: -1.2920368054499999E7
YMin: 5513571.157799999
XMax: -1.15768708545E7
YMax: 6285955.357799999
Spatial Reference: 102100
(3857)
Initial Extent:
XMin: -1.2920368054499999E7
YMin: 5513571.157799999
XMax: -1.15768708545E7
YMax: 6285955.357799999
Spatial Reference: 102100
(3857)
Full Extent:
XMin: -1.2920368054499999E7
YMin: 5513571.157799999
XMax: -1.15768708545E7
YMax: 6285955.357799999
Spatial Reference: 102100
(3857)
Pixel Size X: 0.5999999999999996
Pixel Size Y: 0.6000000000000002
Band Count: 4
Pixel Type: U8
RasterFunction Infos: {"rasterFunctionInfos": [{
"name": "None",
"description": "A No-Op Function.",
"help": ""
}]}
Mensuration Capabilities:
Has Histograms: true
Has Colormap: false
Has Multi Dimensions : false
Rendering Rule:
Min Scale: 0
Max Scale: 0
Copyright Text:
Service Data Type: esriImageServiceDataTypeGeneric
Min Values: 1, 6, 14, 1
Max Values: 235, 235, 234, 232
Mean Values: 116.06925056200735, 111.41374788472896, 94.21892849521898, 129.57235709216562
Standard Deviation Values: 41.254726017695035, 31.98060139889365, 25.293452181334622, 31.571368334701646
Object ID Field: OBJECTID
Fields:
-
OBJECTID
(
type: esriFieldTypeOID
, alias: OBJECTID
)
-
Shape
(
type: esriFieldTypeGeometry
, alias: Shape
)
-
Name
(
type: esriFieldTypeString
, alias: Name
, length: 200
)
-
MinPS
(
type: esriFieldTypeDouble
, alias: MinPS
)
-
MaxPS
(
type: esriFieldTypeDouble
, alias: MaxPS
)
-
LowPS
(
type: esriFieldTypeDouble
, alias: LowPS
)
-
HighPS
(
type: esriFieldTypeDouble
, alias: HighPS
)
-
Category
(
type: esriFieldTypeInteger
, alias: Category
, Coded Values:
[0: Unknown]
, [1: Primary]
, [2: Overview]
, ...6 more...
)
-
Year
(
type: esriFieldTypeInteger
, alias: Year
)
Default Mosaic Method: ByAttribute
Allowed Mosaic Methods: ByAttribute,Center,LockRaster,None
SortField: Year
SortValue: 3000
Mosaic Operator: First
Default Compression Quality: 75
Default Resampling Method: Bilinear
Max Record Count: 1000
Max Image Height: 4100
Max Image Width: 15000
Max Download Image Count: 20
Max Mosaic Image Count: 20
Allow Raster Function: true
Allow Compute TiePoints: false
Supports Statistics: true
Supports Advanced Queries: true
Use StandardizedQueries: false
Raster Type Infos:
Name: Raster Dataset
Description: Supports all ArcGIS Raster Datasets
Help:
Has Raster Attribute Table: false
Edit Fields Info: null
Ownership Based AccessControl For Rasters: null
Child Resources:
Info
Histograms
Key Properties
Legend
MultiDimensionalInfo
rasterFunctionInfos
Supported Operations:
Export Image
Query
Identify
Measure
Compute Histograms
Compute Statistics Histograms
Get Samples
Compute Class Statistics
Query Boundary