{
 "currentVersion": 10.61,
 "serviceDescription": "This is a mosaic of black and white orthorectified aerial photos of Montana and Yellowstone National Park that were taken predominantly in the 1990s. Some areas in Missoula, Lake, and Sanders counties were photographed in 2000 through 2003. The mosaic footprint layer has an attribute field called Image_Year that gives the year the image was taken and a field called Image_Main_Date that gives the first date from the USGS metadata for the image. Some images contain data from multiple dates, but there is no indication of which parts of an image may be from a different date than the Image_Main_Date.The images that form this mosaic were obtained by the Montana State Library between 1998 and 2004 from the U.S. Geological Survey and converted from UTM coordinates to State Plane coordinates. In order to allow zero to represent no-data values for the resulting images, all pixels with a value of 0 were assigned a value of 1. The images of the mosaic are all in Montana State Plane coordinates, units meters, datum NAD83. The coordinate system of the image mosaic is Web Mercator Auxilliary Sphere.The images overlap each other by about 400 meters around their edges. The mosaic is configured by default so that the images with higher record numbers always cover images with lower record numbers, so that the appearance of the mosaic is static. Users of the mosaic may choose other mosaic methods that allow control over which image is displayed in areas where they cover each other.",
 "name": "MSL/DOQQ_1990s",
 "description": "This is a mosaic of black and white orthorectified aerial photos of Montana and Yellowstone National Park that were taken predominantly in the 1990s. Some areas in Missoula, Lake, and Sanders counties were photographed in 2000 through 2003. The mosaic footprint layer has an attribute field called Image_Year that gives the year the image was taken and a field called Image_Main_Date that gives the first date from the USGS metadata for the image. Some images contain data from multiple dates, but there is no indication of which parts of an image may be from a different date than the Image_Main_Date.The images that form this mosaic were obtained by the Montana State Library between 1998 and 2004 from the U.S. Geological Survey and converted from UTM coordinates to State Plane coordinates. In order to allow zero to represent no-data values for the resulting images, all pixels with a value of 0 were assigned a value of 1. The images of the mosaic are all in Montana State Plane coordinates, units meters, datum NAD83. The coordinate system of the image mosaic is Web Mercator Auxilliary Sphere.The images overlap each other by about 400 meters around their edges. The mosaic is configured by default so that the images with higher record numbers always cover images with lower record numbers, so that the appearance of the mosaic is static. Users of the mosaic may choose other mosaic methods that allow control over which image is displayed in areas where they cover each other.",
 "extent": {
  "xmin": -1.2935590644299999E7,
  "ymin": 5484212.290599998,
  "xmax": -1.1575958644299999E7,
  "ymax": 6276113.290599998,
  "spatialReference": {
   "wkid": 102100,
   "latestWkid": 3857
  }
 },
 "initialExtent": {
  "xmin": -1.2935590644299999E7,
  "ymin": 5484212.290599998,
  "xmax": -1.1575958644299999E7,
  "ymax": 6276113.290599998,
  "spatialReference": {
   "wkid": 102100,
   "latestWkid": 3857
  }
 },
 "fullExtent": {
  "xmin": -1.2935590644299999E7,
  "ymin": 5484212.290599998,
  "xmax": -1.1575958644299999E7,
  "ymax": 6276113.290599998,
  "spatialReference": {
   "wkid": 102100,
   "latestWkid": 3857
  }
 },
 "pixelSizeX": 1,
 "pixelSizeY": 1,
 "bandCount": 1,
 "pixelType": "U8",
 "minPixelSize": 0,
 "maxPixelSize": 0,
 "copyrightText": "U.S. Geological Survey, Montana State Library",
 "serviceDataType": "esriImageServiceDataTypeGeneric",
 "minValues": [
  0
 ],
 "maxValues": [
  238
 ],
 "meanValues": [
  121.76208968600983
 ],
 "stdvValues": [
  22.099132214641276
 ],
 "objectIdField": "OBJECTID",
 "fields": [
  {
   "name": "OBJECTID",
   "type": "esriFieldTypeOID",
   "alias": "OBJECTID",
   "domain": null
  },
  {
   "name": "Shape",
   "type": "esriFieldTypeGeometry",
   "alias": "Shape",
   "domain": null
  },
  {
   "name": "Name",
   "type": "esriFieldTypeString",
   "alias": "Name",
   "domain": null,
   "length": 200
  },
  {
   "name": "MinPS",
   "type": "esriFieldTypeDouble",
   "alias": "MinPS",
   "domain": null
  },
  {
   "name": "MaxPS",
   "type": "esriFieldTypeDouble",
   "alias": "MaxPS",
   "domain": null
  },
  {
   "name": "LowPS",
   "type": "esriFieldTypeDouble",
   "alias": "LowPS",
   "domain": null
  },
  {
   "name": "HighPS",
   "type": "esriFieldTypeDouble",
   "alias": "HighPS",
   "domain": null
  },
  {
   "name": "Category",
   "type": "esriFieldTypeInteger",
   "alias": "Category",
   "domain": {
    "type": "codedValue",
    "name": "MosaicCatalogItemCategoryDomain",
    "description": "Catalog item categories.",
    "codedValues": [
     {
      "name": "Unknown",
      "code": 0
     },
     {
      "name": "Primary",
      "code": 1
     },
     {
      "name": "Overview",
      "code": 2
     },
     {
      "name": "Unprocessed Overview",
      "code": 3
     },
     {
      "name": "Partial Overview",
      "code": 4
     },
     {
      "name": "Uploaded",
      "code": 253
     },
     {
      "name": "Incomplete",
      "code": 254
     },
     {
      "name": "Custom",
      "code": 255
     }
    ],
    "mergePolicy": "esriMPTDefaultValue",
    "splitPolicy": "esriSPTDefaultValue"
   }
  },
  {
   "name": "Tag",
   "type": "esriFieldTypeString",
   "alias": "Tag",
   "domain": null,
   "length": 100
  },
  {
   "name": "GroupName",
   "type": "esriFieldTypeString",
   "alias": "GroupName",
   "domain": null,
   "length": 100
  },
  {
   "name": "ProductName",
   "type": "esriFieldTypeString",
   "alias": "ProductName",
   "domain": null,
   "length": 100
  },
  {
   "name": "CenterX",
   "type": "esriFieldTypeDouble",
   "alias": "CenterX",
   "domain": null
  },
  {
   "name": "CenterY",
   "type": "esriFieldTypeDouble",
   "alias": "CenterY",
   "domain": null
  },
  {
   "name": "ZOrder",
   "type": "esriFieldTypeInteger",
   "alias": "ZOrder",
   "domain": null
  },
  {
   "name": "Shape_Length",
   "type": "esriFieldTypeDouble",
   "alias": "Shape_Length",
   "domain": null
  },
  {
   "name": "Shape_Area",
   "type": "esriFieldTypeDouble",
   "alias": "Shape_Area",
   "domain": null
  },
  {
   "name": "Image_Year",
   "type": "esriFieldTypeSmallInteger",
   "alias": "Image_Year",
   "domain": null
  },
  {
   "name": "Image_Main_Date",
   "type": "esriFieldTypeDate",
   "alias": "Image_Main_Date",
   "domain": null,
   "length": 8
  }
 ],
 "capabilities": "Image,Metadata,Catalog",
 "defaultMosaicMethod": "None",
 "allowedMosaicMethods": "None,NorthWest,Center,LockRaster,ByAttribute,Nadir,Viewpoint,Seamline",
 "mosaicOperator": "First",
 "maxDownloadSizeLimit": 2048,
 "defaultCompressionQuality": 75,
 "defaultResamplingMethod": "Bilinear",
 "maxImageHeight": 4100,
 "maxImageWidth": 15000,
 "maxRecordCount": 1000,
 "maxDownloadImageCount": 20,
 "maxMosaicImageCount": 20,
 "allowRasterFunction": true,
 "rasterFunctionInfos": [
  {
   "name": "None",
   "description": "A No-Op Function.",
   "help": ""
  }
 ],
 "rasterTypeInfos": [
  {
   "name": "Raster Dataset",
   "description": "Supports all ArcGIS Raster Datasets",
   "help": ""
  }
 ],
 "mensurationCapabilities": "None",
 "hasHistograms": true,
 "hasColormap": false,
 "hasRasterAttributeTable": false,
 "minScale": 0,
 "maxScale": 0,
 "exportTilesAllowed": false,
 "hasMultidimensions": false,
 "supportsStatistics": true,
 "supportsAdvancedQueries": true,
 "editFieldsInfo": null,
 "ownershipBasedAccessControlForRasters": null,
 "allowComputeTiePoints": false,
 "useStandardizedQueries": false,
 "advancedQueryCapabilities": {
  "useStandardizedQueries": false,
  "supportsStatistics": true,
  "supportsOrderBy": true,
  "supportsDistinct": true,
  "supportsPagination": true
 },
 "spatialReference": {
  "wkid": 102100,
  "latestWkid": 3857
 }
}
