<?xml version="1.0" encoding="UTF-8" standalone="no"?>
<metadata xml:lang="en">
<Esri>
<CreaDate>20151203</CreaDate>
<CreaTime>12514600</CreaTime>
<ArcGISFormat>1.0</ArcGISFormat>
<ArcGISstyle>FGDC CSDGM Metadata</ArcGISstyle>
<SyncOnce>FALSE</SyncOnce>
<ModDate>20151204</ModDate>
<ModTime>09052100</ModTime>
<scaleRange>
<minScale>150000000</minScale>
<maxScale>5000</maxScale>
</scaleRange>
<ArcGISProfile>FGDC</ArcGISProfile>
<DataProperties>
<itemProps>
<imsContentType export="False">
</imsContentType>
<itemName Sync="TRUE">DOQQ_1990s</itemName>
<nativeExtBox>
<westBL Sync="TRUE">-12935590.644300</westBL>
<eastBL Sync="TRUE">-11575958.644300</eastBL>
<southBL Sync="TRUE">5484212.290600</southBL>
<northBL Sync="TRUE">6276113.290600</northBL>
<exTypeCode Sync="TRUE">1</exTypeCode>
</nativeExtBox>
</itemProps>
<coordRef>
<type Sync="TRUE">Projected</type>
<geogcsn Sync="TRUE">GCS_WGS_1984</geogcsn>
<csUnits Sync="TRUE">Linear Unit: Meter (1.000000)</csUnits>
<projcsn Sync="TRUE">WGS_1984_Web_Mercator_Auxiliary_Sphere</projcsn>
<peXml Sync="TRUE">&lt;ProjectedCoordinateSystem xsi:type='typens:ProjectedCoordinateSystem' xmlns:xsi='http://www.w3.org/2001/XMLSchema-instance' xmlns:xs='http://www.w3.org/2001/XMLSchema' xmlns:typens='http://www.esri.com/schemas/ArcGIS/10.3'&gt;&lt;WKT&gt;PROJCS[&amp;quot;WGS_1984_Web_Mercator_Auxiliary_Sphere&amp;quot;,GEOGCS[&amp;quot;GCS_WGS_1984&amp;quot;,DATUM[&amp;quot;D_WGS_1984&amp;quot;,SPHEROID[&amp;quot;WGS_1984&amp;quot;,6378137.0,298.257223563]],PRIMEM[&amp;quot;Greenwich&amp;quot;,0.0],UNIT[&amp;quot;Degree&amp;quot;,0.0174532925199433]],PROJECTION[&amp;quot;Mercator_Auxiliary_Sphere&amp;quot;],PARAMETER[&amp;quot;False_Easting&amp;quot;,0.0],PARAMETER[&amp;quot;False_Northing&amp;quot;,0.0],PARAMETER[&amp;quot;Central_Meridian&amp;quot;,0.0],PARAMETER[&amp;quot;Standard_Parallel_1&amp;quot;,0.0],PARAMETER[&amp;quot;Auxiliary_Sphere_Type&amp;quot;,0.0],UNIT[&amp;quot;Meter&amp;quot;,1.0],AUTHORITY[&amp;quot;EPSG&amp;quot;,3857]]&lt;/WKT&gt;&lt;XOrigin&gt;-20037700&lt;/XOrigin&gt;&lt;YOrigin&gt;-30241100&lt;/YOrigin&gt;&lt;XYScale&gt;148923141.92838538&lt;/XYScale&gt;&lt;ZOrigin&gt;-100000&lt;/ZOrigin&gt;&lt;ZScale&gt;10000&lt;/ZScale&gt;&lt;MOrigin&gt;-100000&lt;/MOrigin&gt;&lt;MScale&gt;10000&lt;/MScale&gt;&lt;XYTolerance&gt;0.001&lt;/XYTolerance&gt;&lt;ZTolerance&gt;0.001&lt;/ZTolerance&gt;&lt;MTolerance&gt;0.001&lt;/MTolerance&gt;&lt;HighPrecision&gt;true&lt;/HighPrecision&gt;&lt;WKID&gt;102100&lt;/WKID&gt;&lt;LatestWKID&gt;3857&lt;/LatestWKID&gt;&lt;/ProjectedCoordinateSystem&gt;</peXml>
</coordRef>
<RasterProperties>
<General>
<PixelDepth Sync="TRUE">8</PixelDepth>
<HasColormap Sync="TRUE">FALSE</HasColormap>
<CompressionType Sync="TRUE">None</CompressionType>
<NumBands Sync="TRUE">1</NumBands>
<Format Sync="TRUE">AMD</Format>
<HasPyramids Sync="TRUE">TRUE</HasPyramids>
<SourceType Sync="TRUE">continuous</SourceType>
<PixelType Sync="TRUE">unsigned integer</PixelType>
<NoDataValue Sync="TRUE">
</NoDataValue>
</General>
<Properties>
<MaxImageHeight Sync="TRUE">4100</MaxImageHeight>
<MaxImageWidth Sync="TRUE">15000</MaxImageWidth>
<MaxRecordCount Sync="TRUE">1000</MaxRecordCount>
<MaxDownloadImageCount Sync="TRUE">20</MaxDownloadImageCount>
<MaxDownloadSizeLimit Sync="TRUE">2048</MaxDownloadSizeLimit>
<MaxMosaicImageCount Sync="TRUE">20</MaxMosaicImageCount>
<DefaultCompressionQuality Sync="TRUE">75</DefaultCompressionQuality>
<DefaultCompressionTolerance Sync="TRUE">0.01</DefaultCompressionTolerance>
<BlendWidth Sync="TRUE">10</BlendWidth>
<ViewpointSpacingX Sync="TRUE">600</ViewpointSpacingX>
<ViewpointSpacingY Sync="TRUE">300</ViewpointSpacingY>
<AllowedItemMetadata Sync="TRUE">Basic</AllowedItemMetadata>
<DefaultResamplingMethod Sync="TRUE">1</DefaultResamplingMethod>
<AllowedMosaicMethods Sync="TRUE">None,NorthWest,Center,LockRaster,ByAttribute,Nadir,Viewpoint,Seamline</AllowedMosaicMethods>
<AllowedCompressions Sync="TRUE">None,JPEG,LZ77,LERC</AllowedCompressions>
<AllowedMensurationCapabilities Sync="TRUE">None</AllowedMensurationCapabilities>
<AvailableMensurationCapabilities Sync="TRUE">None,Basic,Base-Top Height,Top-Top Shadow Height,Base-Top Shadow Height,3D</AvailableMensurationCapabilities>
<ClipToBoundary Sync="TRUE">-1</ClipToBoundary>
<FootprintMayContainNoData Sync="TRUE">-1</FootprintMayContainNoData>
<CellSizeTolerance Sync="TRUE">0.8</CellSizeTolerance>
<MinimumPixelContribution Sync="TRUE">1</MinimumPixelContribution>
<AvailableMosaicMethods Sync="TRUE">NorthWest,Center,LockRaster,ByAttribute,Nadir,Viewpoint,Seamline,None</AvailableMosaicMethods>
<AvailableCompressionMethods Sync="TRUE">None,JPEG,LZ77,LERC</AvailableCompressionMethods>
<AvailableItemMetadataLevels Sync="TRUE">None,Basic,Full</AvailableItemMetadataLevels>
<ConfigKeyword Sync="TRUE">
</ConfigKeyword>
<BandDefinitionKeyword Sync="TRUE">NONE</BandDefinitionKeyword>
<AllowedFields Sync="TRUE">Name,MinPS,MaxPS,LowPS,HighPS,Tag,GroupName,ProductName,CenterX,CenterY,ZOrder,Shape_Length,Shape_Area,Image_Year,Image_Main_Date</AllowedFields>
<MaxCellSize Sync="TRUE">145800</MaxCellSize>
<LowCellSize Sync="TRUE">1</LowCellSize>
<HighCellSize Sync="TRUE">2916</HighCellSize>
<ApplyColorCorrection Sync="TRUE">0</ApplyColorCorrection>
<TimeValueFormat Sync="TRUE">
</TimeValueFormat>
<EndTimeFieldName Sync="TRUE">
</EndTimeFieldName>
<StartTimeFieldName Sync="TRUE">
</StartTimeFieldName>
<TimeIntervalUnits Sync="TRUE">
</TimeIntervalUnits>
<TimeInterval Sync="TRUE">
</TimeInterval>
<VerticalDimension Sync="TRUE">
</VerticalDimension>
<FlowDirection Sync="TRUE">
</FlowDirection>
<MosaicOperator Sync="TRUE">1</MosaicOperator>
<BlendWidthUnits Sync="TRUE">1</BlendWidthUnits>
<UseTime Sync="TRUE">0</UseTime>
<SortAscending Sync="TRUE">-1</SortAscending>
<ClipToFootprint Sync="TRUE">0</ClipToFootprint>
<SortField Sync="TRUE">MinPS</SortField>
<SortValue Sync="TRUE">0</SortValue>
</Properties>
<Functions Sync="TRUE">
<Function Description="Performs on-the-fly mosaic on a raster catalog." Name="Mosaic Function">
</Function>
</Functions>
</RasterProperties>
</DataProperties>
<SyncDate>20151204</SyncDate>
<SyncTime>09052100</SyncTime>
</Esri>
<dataIdInfo>
<idAbs>This is a mosaic of black and white orthorectified aerial photos of Montana and Yellowstone National Park that were taken predominantly in the 1990s. Some areas in Missoula, Lake, and Sanders counties were photographed in 2000 through 2003. The mosaic footprint layer has an attribute field called Image_Year that gives the year the image was taken and a field called Image_Main_Date that gives the first date from the USGS metadata for the image. Some images contain data from multiple dates, but there is no indication of which parts of an image may be from a different date than the Image_Main_Date.The images that form this mosaic were obtained by the Montana State Library between 1998 and 2004 from the U.S. Geological Survey and converted from UTM coordinates to State Plane coordinates. In order to allow zero to represent no-data values for the resulting images, all pixels with a value of 0 were assigned a value of 1. The images of the mosaic are all in Montana State Plane coordinates, units meters, datum NAD83. The coordinate system of the image mosaic is Web Mercator Auxilliary Sphere.The images overlap each other by about 400 meters around their edges. The mosaic is configured by default so that the images with higher record numbers always cover images with lower record numbers, so that the appearance of the mosaic is static. Users of the mosaic may choose other mosaic methods that allow control over which image is displayed in areas where they cover each other.</idAbs>
<idCitation>
<resTitle>Digital Orthophoto Quarter Quadrangle Mosaic for Montana, 1990-2003</resTitle>
<date>
<pubDate>2004-01-01T00:00:00</pubDate>
</date>
<citRespParty>
<rpOrgName>U.S. Geological Survey</rpOrgName>
<role>
<RoleCd value="006">
</RoleCd>
</role>
</citRespParty>
<citRespParty>
<rpOrgName>Montana State Library</rpOrgName>
<role>
<RoleCd value="010">
</RoleCd>
</role>
</citRespParty>
<presForm>
<PresFormCd Sync="TRUE" value="005">
</PresFormCd>
</presForm>
</idCitation>
<resConst>
<Consts>
<useLimit>The Montana State Library provides this product/service for informational purposes only. The Library did not produce it for, nor is it suitable for legal, engineering, or surveying purposes. Consumers of this information should review or consult the primary data and information sources to ascertain the viability of the information for their purposes. The Library provides these data in good faith but does not represent or warrant its accuracy, adequacy, or completeness. In no event shall the Library be liable for any incorrect results or analysis; any direct, indirect, special, or consequential damages to any party; or any lost profits arising out of or in connection with the use or the inability to use the data or the services provided. The Library makes these data and services available as a convenience to the public, and for no other purpose. The Library reserves the right to change or revise published data and/or services at any time.</useLimit>
</Consts>
</resConst>
<themeKeys>
<keyword>DOQQ, DOQ, digital orthophoto, digital orthophotoquad, digital image map, aerial photograpy, rectified photograph, rectified image, air photo, quarter-quadrangle, quarter quadrangle</keyword>
</themeKeys>
<placeKeys>
<keyword>Montana, Yellowstone National Park</keyword>
</placeKeys>
<dataChar>
<CharSetCd value="004">
</CharSetCd>
</dataChar>
<graphOver>
<bgFileName>http://docs.msl.mt.gov/geoinfo/Images/Metadata/doqq.jpg</bgFileName>
<bgFileDesc>Thumbnail sample of monochrome DOQQ image</bgFileDesc>
</graphOver>
<dataExt>
<exDesc>Ground Condition</exDesc>
<tempEle>
<TempExtent>
<exTemp>
<TM_Period>
<tmBegin>1990-07-01T00:00:00</tmBegin>
<tmEnd>2003-09-29T00:00:00</tmEnd>
</TM_Period>
</exTemp>
</TempExtent>
</tempEle>
<geoEle>
</geoEle>
</dataExt>
<idPoC>
<rpOrgName>Montana State Library</rpOrgName>
<role>
<RoleCd value="007">
</RoleCd>
</role>
<rpCntInfo>
<cntAddress addressType="postal">
<delPoint>PO Box 201800</delPoint>
<city>Helena</city>
<adminArea>MT</adminArea>
<postCode>59620-1800</postCode>
<eMailAdd>geoinfo@mt.gov</eMailAdd>
</cntAddress>
<cntPhone>
<voiceNum tddtty="">406-444-5354</voiceNum>
<faxNum>406-444-0266</faxNum>
<voiceNum tddtty="True">406-444-4799</voiceNum>
</cntPhone>
</rpCntInfo>
<displayName>Montana State Library</displayName>
</idPoC>
<resConst>
<LegConsts>
<useLimit>The Montana State Library provides this product/service for informational purposes only. The Library did not produce it for, nor is it suitable for legal, engineering, or surveying purposes. Consumers of this information should review or consult the primary data and information sources to ascertain the viability of the information for their purposes. The Library provides these data in good faith but does not represent or warrant its accuracy, adequacy, or completeness. In no event shall the Library be liable for any incorrect results or analysis; any direct, indirect, special, or consequential damages to any party; or any lost profits arising out of or in connection with the use or the inability to use the data or the services provided. The Library makes these data and services available as a convenience to the public, and for no other purpose. The Library reserves the right to change or revise published data and/or services at any time.</useLimit>
</LegConsts>
</resConst>
<aggrInfo>
<assocType>
<AscTypeCd value="002">
</AscTypeCd>
</assocType>
<aggrDSName>
<resTitle>Digital Orthophoto Quarter Quadrangles for Montana, 1990-2003 </resTitle>
<citOnlineRes>
<linkage>http://mslapps.mt.gov/Geographic_Information/Data/DataList/datalist_Details.aspx?did={DCFB72A9-F20D-4FE6-8313-5D79F665B99C}</linkage>
</citOnlineRes>
</aggrDSName>
</aggrInfo>
<graphOver>
<bgFileName>http://ftp.geoinfo.msl.mt.gov/Documents/Maps/Individual/20041119_686_ortho_dates.gif</bgFileName>
<bgFileDesc>Map of Montana showing photography dates</bgFileDesc>
</graphOver>
<idPurp>This is a mosaic of black and white orthorectified aerial photos of Montana and Yellowstone National Park that were taken predominantly in the 1990s.</idPurp>
<idCredit>U.S. Geological Survey, Montana State Library</idCredit>
<searchKeys>
<keyword>DOQQs</keyword>
<keyword>Aerial Photographs</keyword>
<keyword>Aerial Photos</keyword>
<keyword>Air Photographs</keyword>
<keyword>Air Photos</keyword>
<keyword>Digital Orthophotos</keyword>
<keyword>Montana</keyword>
<keyword>Yellowstone National Park</keyword>
</searchKeys>
<tpCat>
<TopicCatCd value="010">
</TopicCatCd>
</tpCat>
<envirDesc Sync="FALSE">Esri ArcGIS 10.3.0.4322</envirDesc>
<dataLang>
<languageCode Sync="TRUE" value="eng">
</languageCode>
<countryCode Sync="TRUE" value="USA">
</countryCode>
</dataLang>
<spatRpType>
<SpatRepTypCd Sync="TRUE" value="002">
</SpatRepTypCd>
</spatRpType>
<dataExt>
<geoEle>
<GeoBndBox esriExtentType="search">
<exTypeCode Sync="TRUE">1</exTypeCode>
<westBL Sync="TRUE">-116.202388</westBL>
<eastBL Sync="TRUE">-103.988606</eastBL>
<northBL Sync="TRUE">49.007377</northBL>
<southBL Sync="TRUE">44.121167</southBL>
</GeoBndBox>
</geoEle>
</dataExt>
</dataIdInfo>
<mdHrLv>
<ScopeCd value="005">
</ScopeCd>
</mdHrLv>
<mdFileID>CF514E52-8B08-485A-BE63-DE7E086444A9</mdFileID>
<mdChar>
<CharSetCd value="004">
</CharSetCd>
</mdChar>
<mdContact>
<rpOrgName>Montana State Library</rpOrgName>
<role>
<RoleCd value="011">
</RoleCd>
</role>
<rpCntInfo>
<cntAddress addressType="postal">
<delPoint>PO Box 201800</delPoint>
<city>Helena</city>
<adminArea>MT</adminArea>
<postCode>59620-1800</postCode>
<eMailAdd>geoinfo@mt.gov</eMailAdd>
</cntAddress>
<cntPhone>
<voiceNum tddtty="">406-444-5354</voiceNum>
<faxNum>406-444-0266</faxNum>
<voiceNum tddtty="True">406-444-4799</voiceNum>
</cntPhone>
</rpCntInfo>
</mdContact>
<distInfo>
<distributor>
<distorCont>
<rpOrgName>Montana State Library</rpOrgName>
<role>
<RoleCd value="005">
</RoleCd>
</role>
<rpCntInfo>
<cntAddress addressType="postal">
<delPoint>PO Box 201800</delPoint>
<city>Helena</city>
<adminArea>MT</adminArea>
<postCode>59620-1800</postCode>
<eMailAdd>geoinfo@mt.gov</eMailAdd>
</cntAddress>
<cntPhone>
<voiceNum tddtty="">406-444-5354</voiceNum>
<faxNum>406-444-0266</faxNum>
<voiceNum tddtty="True">406-444-4799</voiceNum>
</cntPhone>
</rpCntInfo>
<displayName>Montana State Library</displayName>
</distorCont>
<distorTran>
<onLineSrc>
<orDesc>Offline Data</orDesc>
</onLineSrc>
</distorTran>
</distributor>
</distInfo>
<eainfo>
<detailed>
<enttyp>
<enttypl>Mosaic Image Footprints</enttypl>
<enttypc>14809</enttypc>
</enttyp>
<attr>
<attrlabl>OBJECTID</attrlabl>
<attrdef>Database record number</attrdef>
</attr>
<attr>
<attrlabl>Shape</attrlabl>
<attrdef>Feature coordinates</attrdef>
</attr>
<attr>
<attrlabl>Raster</attrlabl>
<attrdef>Link to raster image</attrdef>
</attr>
<attr>
<attrlabl>Name</attrlabl>
<attrdef>Raster file name. For the doqq images, this string is built by concatenating the latitude and longitude of the southeast corner of the 1-degree block that contains the parent 7.5-minute quadrangle with the row and column number of the parent quadrangle (from the southeast) and the quarter quadrangle NE, NW, SE, or SW designation. Other images are reduced-resolution overviews of the data that are used for rapid display of the mosaic at small scales. The overview file names begin with the characters "Ov_".</attrdef>
</attr>
<attr>
<attrlabl>MinPS</attrlabl>
<attrdef>Minimum pixel size, used by ArcGIS to determine at which scale the image will be displayed</attrdef>
</attr>
<attr>
<attrlabl>MaxPS</attrlabl>
<attrdef>Maximum pixel size, used by ArcGIS to determine at which scale the image will be displayed</attrdef>
</attr>
<attr>
<attrlabl>LowPS</attrlabl>
<attrdef>Smallest pixel size contained in the raster</attrdef>
</attr>
<attr>
<attrlabl>HighPS</attrlabl>
<attrdef>Largest pixel size contained in the raster</attrdef>
</attr>
<attr>
<attrlabl>Category</attrlabl>
<attrdef>This is either 1 for Primary data sets or 2 for Overview images used for rapid display of the data at small scales.</attrdef>
</attr>
<attr>
<attrlabl>Tag</attrlabl>
<attrdef>This field is used by ArcGIS for mosaic functions not implemented for this data. The value is always "Dataset".</attrdef>
</attr>
<attr>
<attrlabl>GroupName</attrlabl>
<attrdef>This field is used by ArcGIS for mosaic functions not implemented for this data. The value is always an empty string.</attrdef>
</attr>
<attr>
<attrlabl>ProductName</attrlabl>
<attrdef>This field is used by ArcGIS for mosaic functions not implemented for this data. The value is always an empty string.</attrdef>
</attr>
<attr>
<attrlabl>CenterX</attrlabl>
<attrdef>Web Mercator x coordinate of the polygon centroid</attrdef>
</attr>
<attr>
<attrlabl>CenterY</attrlabl>
<attrdef>Web Mercator y coordinate of the polygon centroid</attrdef>
</attr>
<attr>
<attrlabl>ZOrder</attrlabl>
<attrdef>This field is used by ArcGIS for mosaic functions not implemented for this data. The value is always null.</attrdef>
</attr>
<attr>
<attrlabl>Shape_Length</attrlabl>
<attrdef>Length of the polygon perimeter in Web Mercator meters. Because of the scale distortion of the Web Mercator projection, this value, in Montana, is 40 to 50 percent larger than the actual perimeter.</attrdef>
</attr>
<attr>
<attrlabl>Shape_Area</attrlabl>
<attrdef>Area of the polygon in Web Mercator square meters. Because of the scale distortion of the Web Mercator projection, this value, in Montana, is 96 to 125 percent larger than the actual area.</attrdef>
</attr>
<attr>
<attrlabl>Image_Year</attrlabl>
<attrdef>This is the year during which the image was acquired.</attrdef>
</attr>
<attr>
<attrlabl>Image_Main_Date</attrlabl>
<attrdef>This is the date listed first by the U.S. Geological Survey in the list of dates of the photographs that were used to create the image. An image might contain data from several dates.</attrdef>
</attr>
</detailed>
</eainfo>
<mdLang>
<languageCode Sync="TRUE" value="eng">
</languageCode>
<countryCode Sync="TRUE" value="USA">
</countryCode>
</mdLang>
<refSysInfo>
<RefSystem>
<refSysID>
<identCode Sync="TRUE" code="3857">
</identCode>
<idCodeSpace Sync="TRUE">EPSG</idCodeSpace>
<idVersion Sync="TRUE">8.2.6</idVersion>
</refSysID>
</RefSystem>
</refSysInfo>
<spatRepInfo>
<Georect>
<cellGeo>
<CellGeoCd Sync="TRUE" value="002">
</CellGeoCd>
</cellGeo>
<numDims Sync="TRUE">2</numDims>
<tranParaAv Sync="TRUE">1</tranParaAv>
<chkPtAv Sync="TRUE">0</chkPtAv>
<cornerPts>
<pos Sync="TRUE">-12935590.644300 5484212.290600</pos>
</cornerPts>
<cornerPts>
<pos Sync="TRUE">-12935590.644300 6276113.290600</pos>
</cornerPts>
<cornerPts>
<pos Sync="TRUE">-11575958.644300 6276113.290600</pos>
</cornerPts>
<cornerPts>
<pos Sync="TRUE">-11575958.644300 5484212.290600</pos>
</cornerPts>
<centerPt>
<pos Sync="TRUE">-12255774.644300 5880162.790600</pos>
</centerPt>
<axisDimension type="002">
<dimSize Sync="TRUE">1359632</dimSize>
<dimResol>
<value Sync="TRUE">1.000000</value>
</dimResol>
</axisDimension>
<axisDimension type="001">
<dimSize Sync="TRUE">791901</dimSize>
<dimResol>
<value Sync="TRUE">1.000000</value>
</dimResol>
</axisDimension>
<ptInPixel>
<PixOrientCd Sync="TRUE" value="001">
</PixOrientCd>
</ptInPixel>
</Georect>
</spatRepInfo>
<contInfo>
<ImgDesc>
<contentTyp>
<ContentTypCd Sync="TRUE" value="001">
</ContentTypCd>
</contentTyp>
<covDim>
<Band>
<dimDescrp Sync="TRUE">Band_1</dimDescrp>
<maxVal Sync="TRUE">238.000000</maxVal>
<minVal Sync="TRUE">0.000000</minVal>
<bitsPerVal Sync="TRUE">8</bitsPerVal>
</Band>
</covDim>
</ImgDesc>
</contInfo>
<mdDateSt Sync="TRUE">20151204</mdDateSt>
</metadata>
