View In:
ArcGIS JavaScript
ArcGIS Online Map Viewer
ArcGIS Earth
Service Description: Each county dataset consists of a 10 meter resolution grid with the relative effective annual precipitation (REAP) in both centimeters and inches. The data provided here has been calibrated for individual counties and edge-matched to provide consistent values for statewide uses.
Name: MSL/RelativeEffectiveAnnualPrecipitation
Description: Each county dataset consists of a 10 meter resolution grid with the relative effective annual precipitation (REAP) in both centimeters and inches. The data provided here has been calibrated for individual counties and edge-matched to provide consistent values for statewide uses.
Single Fused Map Cache: false
Extent:
XMin: 101635.83865414717
YMin: -14229.51131975744
XMax: 1031285.8386541472
YMax: 551080.4886802426
Spatial Reference: 32100
(32100)
LatestVCSWkid(0)
Initial Extent:
XMin: 101635.83865414717
YMin: -14229.51131975744
XMax: 1031285.8386541472
YMax: 551080.4886802426
Spatial Reference: 32100
(32100)
LatestVCSWkid(0)
Full Extent:
XMin: 101635.83865414717
YMin: -14229.51131975744
XMax: 1031285.8386541472
YMax: 551080.4886802426
Spatial Reference: 32100
(32100)
LatestVCSWkid(0)
Pixel Size X: 10.0
Pixel Size Y: 10.0
Band Count: 1
Pixel Type: U16
RasterFunction Infos: {"rasterFunctionInfos": [
{
"name": "None",
"description": "Make a Raster or Raster Dataset into a Function Raster Dataset.",
"help": ""
},
{
"name": "Unique ValuesV2",
"description": "A raster function template.",
"help": ""
},
{
"name": "CentimetersToInches",
"description": "A raster function template.",
"help": ""
}
]}
Mensuration Capabilities: Basic
Inspection Capabilities:
Has Histograms: true
Has Colormap: false
Has Multi Dimensions : false
Rendering Rule:
Min Scale: 0
Max Scale: 0
Resampling: false
Copyright Text: Acknowledgement of Montana - NRCS is appreciated.
Service Data Type: esriImageServiceDataTypeThematic
Min Values: 13
Max Values: 334
Mean Values: 49.9805718781648
Standard Deviation Values: 31.433330049962425
Object ID Field:
Fields:
None
Default Mosaic Method: Center
Allowed Mosaic Methods:
SortField:
SortValue: null
Mosaic Operator: First
Default Compression Quality: 75
Default Resampling Method: Bilinear
Max Record Count: null
Max Image Height: 4100
Max Image Width: 15000
Max Download Image Count: null
Max Mosaic Image Count: null
Allow Raster Function: true
Allow Copy: true
Allow Analysis: true
Allow Compute TiePoints: false
Supports Statistics: false
Supports Advanced Queries: false
Use StandardizedQueries: true
Raster Type Infos:
Name: Raster Dataset
Description: Supports all ArcGIS Raster Datasets
Help:
Has Raster Attribute Table: true
Edit Fields Info: null
Ownership Based AccessControl For Rasters: null
Child Resources:
Info
Raster Attribute Table
Histograms
Statistics
Key Properties
Legend
Raster Function Infos
Supported Operations:
Export Image
Identify
Measure
Compute Histograms
Compute Statistics Histograms
Get Samples
Compute Class Statistics
Query Boundary
Compute Pixel Location
Compute Angles
Validate
Project